BEGIN:VCALENDAR
VERSION:2.0
PRODID:-//Wine For Wheels - ECPv6.15.14//NONSGML v1.0//EN
CALSCALE:GREGORIAN
METHOD:PUBLISH
X-WR-CALNAME:Wine For Wheels
X-ORIGINAL-URL:https://wineforwheels.org
X-WR-CALDESC:Events for Wine For Wheels
REFRESH-INTERVAL;VALUE=DURATION:PT1H
X-Robots-Tag:noindex
X-PUBLISHED-TTL:PT1H
BEGIN:VTIMEZONE
TZID:America/Los_Angeles
BEGIN:DAYLIGHT
TZOFFSETFROM:-0800
TZOFFSETTO:-0700
TZNAME:PDT
DTSTART:20200308T100000
END:DAYLIGHT
BEGIN:STANDARD
TZOFFSETFROM:-0700
TZOFFSETTO:-0800
TZNAME:PST
DTSTART:20201101T090000
END:STANDARD
BEGIN:DAYLIGHT
TZOFFSETFROM:-0800
TZOFFSETTO:-0700
TZNAME:PDT
DTSTART:20210314T100000
END:DAYLIGHT
BEGIN:STANDARD
TZOFFSETFROM:-0700
TZOFFSETTO:-0800
TZNAME:PST
DTSTART:20211107T090000
END:STANDARD
BEGIN:DAYLIGHT
TZOFFSETFROM:-0800
TZOFFSETTO:-0700
TZNAME:PDT
DTSTART:20220313T100000
END:DAYLIGHT
BEGIN:STANDARD
TZOFFSETFROM:-0700
TZOFFSETTO:-0800
TZNAME:PST
DTSTART:20221106T090000
END:STANDARD
BEGIN:DAYLIGHT
TZOFFSETFROM:-0800
TZOFFSETTO:-0700
TZNAME:PDT
DTSTART:20230312T100000
END:DAYLIGHT
BEGIN:STANDARD
TZOFFSETFROM:-0700
TZOFFSETTO:-0800
TZNAME:PST
DTSTART:20231105T090000
END:STANDARD
BEGIN:DAYLIGHT
TZOFFSETFROM:-0800
TZOFFSETTO:-0700
TZNAME:PDT
DTSTART:20240310T100000
END:DAYLIGHT
BEGIN:STANDARD
TZOFFSETFROM:-0700
TZOFFSETTO:-0800
TZNAME:PST
DTSTART:20241103T090000
END:STANDARD
BEGIN:DAYLIGHT
TZOFFSETFROM:-0800
TZOFFSETTO:-0700
TZNAME:PDT
DTSTART:20250309T100000
END:DAYLIGHT
BEGIN:STANDARD
TZOFFSETFROM:-0700
TZOFFSETTO:-0800
TZNAME:PST
DTSTART:20251102T090000
END:STANDARD
BEGIN:DAYLIGHT
TZOFFSETFROM:-0800
TZOFFSETTO:-0700
TZNAME:PDT
DTSTART:20260308T100000
END:DAYLIGHT
BEGIN:STANDARD
TZOFFSETFROM:-0700
TZOFFSETTO:-0800
TZNAME:PST
DTSTART:20261101T090000
END:STANDARD
END:VTIMEZONE
BEGIN:VEVENT
DTSTART;TZID=America/Los_Angeles:20210823T080000
DTEND;TZID=America/Los_Angeles:20210823T080000
DTSTAMP:20260425T180553
CREATED:20210517T192424Z
LAST-MODIFIED:20210730T194613Z
UID:2154-1629705600-1629705600@wineforwheels.org
SUMMARY:Drive Fore Mobility - 18th Annual - 8/23/2021
DESCRIPTION:Drive Fore Mobility – 18th Annual\nAugust 23\, 2021\n \nOur tournament is sold out but if you would like to purchase tickets for dinner and join us for the post-tournament festivities\, click the button below and join us on August 23rd\, 4:30 pm at the Blackhawk Country Club. We look forward to seeing you there. \n  \nWheelchair Foundation “Drive Fore Mobility”\nLIVE AUCTION ITEMS\nMonday\, August 23\, 2021\n  \n  \n\nZephyr 45 Bottle Stainless Steel Wine Cooler: Value: $1500\n\nFor those who don’t have room to build a wine cellar\, the Zephyr 45 bottle cooler provides a nice alternative.  This top rated cooler has precise temperature controls ranging from 40-65 degrees\, a vibration dampening system\, a 7 bottle rack for champagne and an LED lighting system. \nDonated by Luke Siow and Mike McColgan \n  \n\nDeluxe Royal Food and Wine Pairing for 10 at Castello Di Amorosa: Value: $1000\n\nJoin Sommelier Mary Davidek for an interactive and educational program designed to enhance your enjoyment of Castello’s wine in this lively tour and tasting experience.  After touring the incredible castle and winery\, you will be secreted away to the elegantly appointed Royal Apartment overlooking the picturesque northern end of Napa Valley.  After an educational tour of the proper\, you and your guests will savor many of Castello di Amorosa’s award-winning wines including reserve selections\, La Castellana and Il Barone\, paired with savory bites.  The package will include three different bottles of wine from Castello Di Amorosa. \nDonated by Castello di Amorosa \n  \n\nAutographed and Framed Future Hall of Famer Kevin Durant Jersey Value: $1500\n\nOwn a beautifully framed and autographed Kevin Durant jersey.  The former Golder State Warrior has won two NBA championships\, NBA Most Valuable Player Award\, two Finals MVP Awards\, two NBA All-Star Game MVP Awards\, four NBA scoring titles NBA Rookie of the Year Award and two Olympic gold medals.  Donated by Mark Ibanez\, Ira Klein and Graphics Gallery \n  \n\n“Committee Select” Case of 12 Special Wines Value: $1000\n\n  \n\nCaymus 2009 Special Select Cabernet Sauvignon 3 Liter Bottle of Wine Signed by Winemaker Chuck Wagner from Ken Behring’s Private Cellar Value: $1000\n\n  \n\nTorrey Pines 2022 Farmers Insurance Open Hospitality Package Value: $4000\n\n     You and a guest will enjoy tickets to the Farmers Cares Club/14th hole on-course hospitality venue for Sunday\, January 30\, 2022.  You will also receive one night’s lodging at either the Lodge at Torrey Pines or Hilton La Jolla Torrey Pines on January 30\, 2022. \n                                                                                                   \n                                \n7.“Lions\, Tigers and Bears” Private Catered Dinner for 8 in Blackhawk Museum and Special Selection of Wine from the Jeff Behring\, David Behring and Val Nunes Cellars– Value: Priceless \nYou and seven guests will enjoy a private dinner party with Jeff and David Behring and Val Nunes in the new World of Nature Gallery at the Blackhawk Museum.  Instead of dining under the stars\, you will have the rare treat of dining in an area surrounded by animals\, birds and fish from across the world.  Jeff\, Val and David will supply special wines from their collections for the dinner. Donated by David and Jeff Behring and Val Nunes \n  \n  \n\n Dinner for 8 with Channel 2’s Mark Ibanez in Private Wine Cellar at House of Prime Rib: Priceless\n\nYou and seven guests will enjoy an incredible dinner at one of San Francisco’s most famous restaurants.  Listen to award winning sports broadcaster Mark Ibanez regale your group with stories about Bay Area sports while being in a private cellar surrounded by some of the oldest and rarest wines in the world. \nDonated by House of Prime Rib and Mark Ibanez \n  \n\n HOF Joe Montana Memorabilia Collection: Value: $1200\n\n     You will receive three great autographed Joe Montana items: \n\nAn autographed jersey\nA beautifully framed shadowbox with four replica Super Bowl rings\, a plate with his statistics and a signed photo\nA framed and autographed cover of Sports Illustrated\n\nDonated by David Behring \n  \n\n Private San Diego Fishing Trip Value: $2500\n\nYou and a guest will enjoy a wonderful day fishing with Tim Beinke and his Captain/Guide in a beautiful 50-foot fishing boat.  The primary goal will be tuna and other large gamefish.  Drinks and lunch are included along with two nights at the Bahia Hotel next to the Harbor.  Donated by Steve and Tim Beinke. \n  \n 
URL:https://wineforwheels.org/event/drive-fore-mobility-18th-annual/
LOCATION:Blackhawk Country Club & Golf Course\, 599 Blackhawk Club Drive\, Danville\, CA\, 94506\, United States
ORGANIZER;CN="Wheelchair Foundation":MAILTO:jeffbehring@wineforwheels.org
END:VEVENT
BEGIN:VEVENT
DTSTART;TZID=America/Los_Angeles:20230708T170000
DTEND;TZID=America/Los_Angeles:20230708T230000
DTSTAMP:20260425T180553
CREATED:20230524T012124Z
LAST-MODIFIED:20230524T012357Z
UID:2317-1688835600-1688857200@wineforwheels.org
SUMMARY:Wheelchair Foundation\, Wine & Country Event
DESCRIPTION:Wheelchair Foundation\, Wine & Country Event\nBlackhawk Museum\nJuly 8\, 2023\nTo buy tickets Click Here
URL:https://wineforwheels.org/event/wheelchair-foundation-wine-country-event/
LOCATION:Blackhawk Museum\, 3700 Blackhawk Plaza Circle\, Danville\, California\, 94506\, Select a Country:
ORGANIZER;CN="Wheelchair Foundation":MAILTO:jeffbehring@wineforwheels.org
END:VEVENT
BEGIN:VEVENT
DTSTART;TZID=America/Los_Angeles:20230729T183000
DTEND;TZID=America/Los_Angeles:20230729T223000
DTSTAMP:20260425T180553
CREATED:20230614T195439Z
LAST-MODIFIED:20230712T173302Z
UID:2327-1690655400-1690669800@wineforwheels.org
SUMMARY:Wine for Wheels Presents Hillside at Blackhawk
DESCRIPTION:Wine for Wheels\nPresents\n“Hillside at Blackhawk”\n\n  \nWhen and Where\nDate: Saturday\, July 29\, 2023\n\nTime: 6:30-10:00 PM\n\nLocation:  Colin Behring and Elizabeth Premazzi Residence\n 73 Blackhawk Club Court\, Danville\, CA\n\n\nDonation\nWe are asking for a $100 donation.\nA VIP $200 donation buys a wheelchair for someone in need.\n(Bring a nice bottle of wine or your desired beverage…  to share or not.)\n\n\nPurpose\nEnjoy food\, music\, and your favorite wine at an amazing hillside residence. Let’s have fun and bring light into the lives of others though improved mobility.\n\n\nCatered by Liberation Foods \n\nMusic by Bylly James Band \n\n\n\n\nFor more information and to RSVP\, please call Jeff Behring at 925-648-3829 or email jeffbehring@wineforwheels.org\n\nThis event will be limited to 80 guests.
URL:https://wineforwheels.org/event/wine-for-wheels-presents-at-hillside/
LOCATION:Colin Behring and Elizabeth Premazzi\, 73 Blackhawk Club Court\, Danville\, 94506\, United States
ORGANIZER;CN="Wine for Wheels":MAILTO:jeffbehring@wineforwheels.org
END:VEVENT
BEGIN:VEVENT
DTSTART;TZID=America/Los_Angeles:20230821T080000
DTEND;TZID=America/Los_Angeles:20230821T170000
DTSTAMP:20260425T180553
CREATED:20230712T173825Z
LAST-MODIFIED:20230807T221406Z
UID:2385-1692604800-1692637200@wineforwheels.org
SUMMARY:20th Annual “Drive Fore Mobility” Golf Tournament
DESCRIPTION:20th Annual “Drive Fore Mobility”\nGolf Tournament Auction\, Wine\,  and Dinner\n\n\n\n\n\n\n\nAugust 21\, 2023         \nHors d’oeuvres\, silent auction\, and wine tasting:  4:30pm\,\nDinner starts:  5:30 pm\n\n\n\n\n\n\n\n\n\nCost $90\nFor Dinner Only Tickets call Jeff Behring at (925) 648-3829 or (925) 890-9883 \nor email Jeffbehring@wineforwheels.org \nFriday\, August 11\, 2023 is the last day to sign up for the “Golf Fore Mobility” dinner. \n\n\n\n\n\n\n\n\n\n\n\n\n\n\n\n\n\n\n\n\n\n\n\n\n\n Add to calendar\n\n\n\n\n\n\n\n\nDETAILS\n\nDate:  August 21\, 2023\n\nTime:  4:30 9m – 8:30 pm\n\nCost:  $90\n\nEvent Category:\nFundraiser\nEvent Tags:\ncharity\, charity golf tournament\, fundraiser\, golf tournament\, mobility\, nonprofit\, wheelchair\, wheelchair foundation\, wheelchairs\n\n\n\nORGANIZER:  Wheelchair Foundation\n\nPhone for tickets:  Jeff Juri (925) 648-3829\n\nEmail for tickets:  jjuri@wheelchairfoundation.org\n\nView Organizer Website\n\n\n\n\n\nVENUE\n\nBlackhawk Country Club\n\n599 Blackhawk Club Drive\nDanville\, CA 94506 United States + Google Map\n\nPhone:\n925-736-6550\nView Venue Website\n\n\n\n\n\n\n\n\n\n\n\n\n\n\n\n\nFirst Name \nLast Name \nEmail Address \n \n \n\n\n\n\n\n\n\n\nFOLLOW US ON FACEBOOK
URL:https://wineforwheels.org/event/2385/
LOCATION:Blackhawk Country Club & Golf Course\, 599 Blackhawk Club Drive\, Danville\, CA\, 94506\, United States
ORGANIZER;CN="Wheelchair Foundation":MAILTO:jeffbehring@wineforwheels.org
END:VEVENT
BEGIN:VEVENT
DTSTART;TZID=America/Los_Angeles:20230831T173000
DTEND;TZID=America/Los_Angeles:20230831T220000
DTSTAMP:20260425T180553
CREATED:20230727T231849Z
LAST-MODIFIED:20230827T172042Z
UID:2494-1693503000-1693519200@wineforwheels.org
SUMMARY:Founders Day Party
DESCRIPTION:[vc_row][vc_column][vc_column_text]26[/vc_column_text][/vc_column][/vc_row][vc_row][vc_column][vc_column_text]\nWine for Wheels\nPresents\nFounders Day “Island Party” \nin\n Saddleback of Blackhawk\n(Bring your Island Wear and Appetite!)\n\nDate:  Saturday\, August 26th\, 2023\nTime:  5:30-10:00 PM\n***** \nHost:  Jeff and Jane Behring Residence\nAddress:  2357 Saddleback Drive\, Danville\, CA 94506\n*****\nDonation\nWe are requesting for a $100 donation per person.\nBut\, a $200 donation buys a wheelchair for someone in need.\nand\n(Bring a nice bottle of wine or your desired beverage to share or not share… your choice)\n*****\nEnjoy “Island Themed” Cuisine by Liberation Foods\n(All new menu Items with passed appetizers) \n*****\nLive “Island” Music!\n*****\nPurpose\nEnjoy old friends and new friends at the Wine for Wheels Founders’ residence in Saddleback of Blackhawk with beautiful scenic views of Mt. Diablo… and to have fun and “most importantly” bring joy into the lives of others though improved mobility.\nFor more information and to RSVP\, please call Jeff Behring at 925-890-9883 or email jeffbehring@wineforwheels.org\nThis event will be limited to 60 guests.\n[/vc_column_text][/vc_column][/vc_row]
URL:https://wineforwheels.org/event/founders-day-party/
LOCATION:Jeff and Jane Behring\, 2357 Saddleback Drive\, Danville\, CA\, 94506\, United States
ORGANIZER;CN="Wine for Wheels":MAILTO:jeffbehring@wineforwheels.org
END:VEVENT
BEGIN:VEVENT
DTSTART;TZID=America/Los_Angeles:20240706T173000
DTEND;TZID=America/Los_Angeles:20240706T210000
DTSTAMP:20260425T180553
CREATED:20230509T212748Z
LAST-MODIFIED:20240620T175516Z
UID:2308-1720287000-1720299600@wineforwheels.org
SUMMARY:Wine for Wheels Presents "Another Island Party" at the Davis residence in Westside Danville
DESCRIPTION:[vc_row][vc_column][vc_column_text css=””]\nWine for Wheels Presents\n“Mobility and Freedom Under the Stars”\n“Another Island Party”\n\nat the Residence of Don and Whitney Davis – Westside Danville\nwith Island Music by Kelly McGuire\n\nHamburgers\, Chicken\, Fries Provided by Fuddruckers\nDate: Saturday\, July 6\, 2024\nTime: 5:30-9:00 PM\nLocation:  Don and Whitney Davis Residence\n344 Cliffside Drive\, Danville\, CA  94526\n  \nDonation: We are asking for a $100 donation. A $200 donation buys a wheelchair for someone in need.\n\nRemember… this is to provide mobility for those less fortunate.\n(Also\, Bring a nice bottle of wine to share or not to share or any other beverage of your choice.)\n\nEnjoy food\, music\, and your favorite wine at an amazing cliffside residence.  Let’s have fun and bring light into the lives of others though improved mobility.\n\nFor more information and RSVP questions\, please call Jeff Behring at 925-890-9883 or email jeffbehring@wineforwheels.org\n[/vc_column_text][vc_media_grid element_width=”2″ css=”” grid_id=”vc_gid:1717789015611-6d17f7d6-30f2-3″ include=”2792\,2791\,2790\,307\,306\,303″][/vc_column][/vc_row]
URL:https://wineforwheels.org/event/wine-for-wheels-at-davis-residence/
LOCATION:Don and Witney Davis\, 344 Cliffside Drive\, Danville\, CA\, 94526\, United States
ATTACH;FMTTYPE=image/png:https://wineforwheels.org/wp-content/uploads/2015/09/wfw_transparent_logo.png
ORGANIZER;CN="Wine for Wheels":MAILTO:jeffbehring@wineforwheels.org
END:VEVENT
BEGIN:VEVENT
DTSTART;TZID=America/Los_Angeles:20240803T173000
DTEND;TZID=America/Los_Angeles:20240803T173000
DTSTAMP:20260425T180553
CREATED:20240617T213755Z
LAST-MODIFIED:20240617T214443Z
UID:2827-1722706200-1722706200@wineforwheels.org
SUMMARY:2024 Founders Day Party
DESCRIPTION:Wine for Wheels\nand the\nWheelchair Foundation\npresent\n“2024 WFW’s Founders Day Party”\n  \nDate:  Saturday\, August 3\, 2024\nTime:  5:30-9:00 PM\nFood Provided\nLocation\nJeff and Jane Behring Residence\n2357 Saddleback Drive\, Danville\, CA 94506\n  \nwith\nThe Bylly James Band\n \nDonation\nWe are requesting a $75 donation per person.\nAnd with the Wheelchair Foundation matching grant a $175 donation buys a wheelchair for someone in need.\n(Also\, bring a nice bottle of wine or your desired beverage to share or not share… your choice.)
URL:https://wineforwheels.org/event/2024-founders-day-party/
LOCATION:Jeff and Jane Behring\, 2357 Saddleback Drive\, Danville\, CA\, 94506\, United States
END:VEVENT
BEGIN:VEVENT
DTSTART;TZID=America/Los_Angeles:20250322T170000
DTEND;TZID=America/Los_Angeles:20250322T220000
DTSTAMP:20260425T180553
CREATED:20240607T184405Z
LAST-MODIFIED:20240607T190110Z
UID:2784-1742662800-1742680800@wineforwheels.org
SUMMARY:Wheelchair Foundation 25 Year Anniversary Gala
DESCRIPTION:Wheelchair Foundation 25 Year Anniversary Gala\n \nWe are thrilled to invite you to save the date for a momentous occasion \n  \nWe are thrilled to invite you to save the date for a momentous occasion: the 25th Anniversary of the Wheelchair Foundation! Date: March 22\, 2025 Location: Blackhawk Museum Danville\, CA. For a quarter of a century\, the Wheelchair Foundation has been dedicated to transforming lives by providing mobility\, dignity\, and hope to those in need around the world. This milestone is a testament to the unwavering support of our donors\, partners\, and volunteers. Together\, we have made a profound impact on countless lives. Join us for an evening of celebration\, reflection\, and forward-looking vision. The event will feature inspiring stories\, special guest speakers\, entertainment\, and a look back at our incredible journey over the past 25 years. It’s an opportunity to honor our achievements and to thank everyone who has played a part in our success. Further details and formal invitations will follow\, but for now\, please mark your calendars for this special event. We look forward to celebrating with you and continuing our mission to change lives\, one wheelchair at a time. Thank you for your continued support and commitment to the Wheelchair Foundation. \n \n \n 
URL:https://wineforwheels.org/event/wheelchair-foundation-25-year-anniversary-gala/
LOCATION:CA
END:VEVENT
BEGIN:VEVENT
DTSTART;TZID=America/Los_Angeles:20250705T173000
DTEND;TZID=America/Los_Angeles:20250705T210000
DTSTAMP:20260425T180553
CREATED:20250618T212120Z
LAST-MODIFIED:20250630T180514Z
UID:2964-1751736600-1751749200@wineforwheels.org
SUMMARY:Val's BBQ and Wine Tasting for Wheelchairs
DESCRIPTION:Wine for Wheels\nPresents at the residence of Val Nunes\n“Val’s BBQ and Wine Tasting for Wheelchairs”\nIn addition to WFW’s members bringing their own wine\, WFW’s will provided a Wine Tasting of Older Vintages – Some may be good some maybe not sot good! \nat the Blackhawk Residence of Val Nunes \nDate:  Saturday\, July 5\, 2025\, 5:30pm – 9:00pm \nDonation:  We are asking for a $100 donation to cover the cost of a wheelchair after the Wheelchair Foundation’s special matching fund is applied.  We are also providing a VIP ticket to cover the cost of donating two wheelchairs. \nRemember this is to provide mobility for those less fortunate… and enjoy one another’s company! \n(Also\, bring a nice bottle of wine to share “or not share” or another beverage of your choosing.) \nEnjoy good food and wine Val’s beautiful residence overlooking Blackhawk’s Premier “Falls” Golf Course. \nFor more information and RSVP questions\, please call Jeff Behring at (925) 890-9883 or email jeffbehring@wineforwheels.org \n 
URL:https://wineforwheels.org/event/vals-bbq-for-wheelchairs/
LOCATION:Valdimer Nunes Residence\, 4157 Quail Run Drive\, DAnville\, CA\, 94506\, United States
ORGANIZER;CN="Wine for Wheels":MAILTO:jeffbehring@wineforwheels.org
END:VEVENT
BEGIN:VEVENT
DTSTART;TZID=America/Los_Angeles:20250906T053000
DTEND;TZID=America/Los_Angeles:20250909T213000
DTSTAMP:20260425T180553
CREATED:20250715T201646Z
LAST-MODIFIED:20250801T174004Z
UID:3036-1757136600-1757453400@wineforwheels.org
SUMMARY:Wine For Wheels Founders' Day Fiesta Party
DESCRIPTION:Wheelchair Foundation\nPresents\n“Wine for Wheels Fiesta Party”\nDate\nSaturday\, September 6\, 2025\n5:30pm – 9:30pm\nLocation\nJeff and Jane Behring Residence\n2357 Saddleback Drive\, Danville\, CA 94506\nDonation\nWe are requesting a $100 donation per person.\nBut\, a $200 donation also buys another wheelchair for someone in need.\nand\n(…and remember to bring a nice bottle of wine or your desired beverage to share or not to share… your choice.)\nFun Acoustic Party Tunes \nby\nThe Rusty Strumers\n 
URL:https://wineforwheels.org/event/wine-for-wheels-founders-day-fiesta-party/
LOCATION:Jeff and Jane Behring\, 2357 Saddleback Drive\, Danville\, CA\, 94506\, United States
ORGANIZER;CN="Jeff Behring":MAILTO:jeffbehring@wineforwheels.org
END:VEVENT
END:VCALENDAR