BEGIN:VCALENDAR
VERSION:2.0
PRODID:-//Wine For Wheels - ECPv6.15.14//NONSGML v1.0//EN
CALSCALE:GREGORIAN
METHOD:PUBLISH
X-WR-CALNAME:Wine For Wheels
X-ORIGINAL-URL:https://wineforwheels.org
X-WR-CALDESC:Events for Wine For Wheels
REFRESH-INTERVAL;VALUE=DURATION:PT1H
X-Robots-Tag:noindex
X-PUBLISHED-TTL:PT1H
BEGIN:VTIMEZONE
TZID:America/Los_Angeles
BEGIN:DAYLIGHT
TZOFFSETFROM:-0800
TZOFFSETTO:-0700
TZNAME:PDT
DTSTART:20200308T100000
END:DAYLIGHT
BEGIN:STANDARD
TZOFFSETFROM:-0700
TZOFFSETTO:-0800
TZNAME:PST
DTSTART:20201101T090000
END:STANDARD
BEGIN:DAYLIGHT
TZOFFSETFROM:-0800
TZOFFSETTO:-0700
TZNAME:PDT
DTSTART:20210314T100000
END:DAYLIGHT
BEGIN:STANDARD
TZOFFSETFROM:-0700
TZOFFSETTO:-0800
TZNAME:PST
DTSTART:20211107T090000
END:STANDARD
BEGIN:DAYLIGHT
TZOFFSETFROM:-0800
TZOFFSETTO:-0700
TZNAME:PDT
DTSTART:20220313T100000
END:DAYLIGHT
BEGIN:STANDARD
TZOFFSETFROM:-0700
TZOFFSETTO:-0800
TZNAME:PST
DTSTART:20221106T090000
END:STANDARD
END:VTIMEZONE
BEGIN:VEVENT
DTSTART;TZID=America/Los_Angeles:20210820T183000
DTEND;TZID=America/Los_Angeles:20210820T220000
DTSTAMP:20260425T135444
CREATED:20210722T144119Z
LAST-MODIFIED:20210730T163834Z
UID:2174-1629484200-1629496800@wineforwheels.org
SUMMARY:Wine for Wheels at David and May Behring's Blackhawk Home
DESCRIPTION:“Live” Wine for Wheels Celebration\nHosted by David and May Behring\nFriday\, August 20\, 2021\n\n\nA very special live celebration “It’s about time!”\n\n*****\nFriday\, August 20\, 2021\n6:30pm – 10:00pm\n\n*****\n\n\nLocation\n2982 Deer Meadow Drive\nDanville\, CA  94506\n\n\n*****\nMusic by the\nBylly James Band\n\n*****\nBring your favorite bottle of wine or beverage to enjoy or share or both!\n\n***** \nCatering by Loveable Feast\nCarol Gilliland and Team\n\nAt A Loveable Feast\, our entire mission is to make your event the best it can possible be.  A lot of caterers go to a restaurant distributor and buy 12 dozen of this and 5 dozen of that. At A Loveable Feast\, all of the food is made from scratch – from the dressings and sauces to the breads and desserts. This means we know all of the ingredients that go into each item… and of course\, the secret ingredient of love!
URL:https://wineforwheels.org/event/wine-for-wheels-at-david-and-may-behrings-blackhawk-home/
LOCATION:David and May Behring\, 2982 Deer Meadow Drive\, Danville\, 94506\, United States
END:VEVENT
BEGIN:VEVENT
DTSTART;TZID=America/Los_Angeles:20210823T080000
DTEND;TZID=America/Los_Angeles:20210823T080000
DTSTAMP:20260425T135444
CREATED:20210517T192424Z
LAST-MODIFIED:20210730T194613Z
UID:2154-1629705600-1629705600@wineforwheels.org
SUMMARY:Drive Fore Mobility - 18th Annual - 8/23/2021
DESCRIPTION:Drive Fore Mobility – 18th Annual\nAugust 23\, 2021\n \nOur tournament is sold out but if you would like to purchase tickets for dinner and join us for the post-tournament festivities\, click the button below and join us on August 23rd\, 4:30 pm at the Blackhawk Country Club. We look forward to seeing you there. \n  \nWheelchair Foundation “Drive Fore Mobility”\nLIVE AUCTION ITEMS\nMonday\, August 23\, 2021\n  \n  \n\nZephyr 45 Bottle Stainless Steel Wine Cooler: Value: $1500\n\nFor those who don’t have room to build a wine cellar\, the Zephyr 45 bottle cooler provides a nice alternative.  This top rated cooler has precise temperature controls ranging from 40-65 degrees\, a vibration dampening system\, a 7 bottle rack for champagne and an LED lighting system. \nDonated by Luke Siow and Mike McColgan \n  \n\nDeluxe Royal Food and Wine Pairing for 10 at Castello Di Amorosa: Value: $1000\n\nJoin Sommelier Mary Davidek for an interactive and educational program designed to enhance your enjoyment of Castello’s wine in this lively tour and tasting experience.  After touring the incredible castle and winery\, you will be secreted away to the elegantly appointed Royal Apartment overlooking the picturesque northern end of Napa Valley.  After an educational tour of the proper\, you and your guests will savor many of Castello di Amorosa’s award-winning wines including reserve selections\, La Castellana and Il Barone\, paired with savory bites.  The package will include three different bottles of wine from Castello Di Amorosa. \nDonated by Castello di Amorosa \n  \n\nAutographed and Framed Future Hall of Famer Kevin Durant Jersey Value: $1500\n\nOwn a beautifully framed and autographed Kevin Durant jersey.  The former Golder State Warrior has won two NBA championships\, NBA Most Valuable Player Award\, two Finals MVP Awards\, two NBA All-Star Game MVP Awards\, four NBA scoring titles NBA Rookie of the Year Award and two Olympic gold medals.  Donated by Mark Ibanez\, Ira Klein and Graphics Gallery \n  \n\n“Committee Select” Case of 12 Special Wines Value: $1000\n\n  \n\nCaymus 2009 Special Select Cabernet Sauvignon 3 Liter Bottle of Wine Signed by Winemaker Chuck Wagner from Ken Behring’s Private Cellar Value: $1000\n\n  \n\nTorrey Pines 2022 Farmers Insurance Open Hospitality Package Value: $4000\n\n     You and a guest will enjoy tickets to the Farmers Cares Club/14th hole on-course hospitality venue for Sunday\, January 30\, 2022.  You will also receive one night’s lodging at either the Lodge at Torrey Pines or Hilton La Jolla Torrey Pines on January 30\, 2022. \n                                                                                                   \n                                \n7.“Lions\, Tigers and Bears” Private Catered Dinner for 8 in Blackhawk Museum and Special Selection of Wine from the Jeff Behring\, David Behring and Val Nunes Cellars– Value: Priceless \nYou and seven guests will enjoy a private dinner party with Jeff and David Behring and Val Nunes in the new World of Nature Gallery at the Blackhawk Museum.  Instead of dining under the stars\, you will have the rare treat of dining in an area surrounded by animals\, birds and fish from across the world.  Jeff\, Val and David will supply special wines from their collections for the dinner. Donated by David and Jeff Behring and Val Nunes \n  \n  \n\n Dinner for 8 with Channel 2’s Mark Ibanez in Private Wine Cellar at House of Prime Rib: Priceless\n\nYou and seven guests will enjoy an incredible dinner at one of San Francisco’s most famous restaurants.  Listen to award winning sports broadcaster Mark Ibanez regale your group with stories about Bay Area sports while being in a private cellar surrounded by some of the oldest and rarest wines in the world. \nDonated by House of Prime Rib and Mark Ibanez \n  \n\n HOF Joe Montana Memorabilia Collection: Value: $1200\n\n     You will receive three great autographed Joe Montana items: \n\nAn autographed jersey\nA beautifully framed shadowbox with four replica Super Bowl rings\, a plate with his statistics and a signed photo\nA framed and autographed cover of Sports Illustrated\n\nDonated by David Behring \n  \n\n Private San Diego Fishing Trip Value: $2500\n\nYou and a guest will enjoy a wonderful day fishing with Tim Beinke and his Captain/Guide in a beautiful 50-foot fishing boat.  The primary goal will be tuna and other large gamefish.  Drinks and lunch are included along with two nights at the Bahia Hotel next to the Harbor.  Donated by Steve and Tim Beinke. \n  \n 
URL:https://wineforwheels.org/event/drive-fore-mobility-18th-annual/
LOCATION:Blackhawk Country Club & Golf Course\, 599 Blackhawk Club Drive\, Danville\, CA\, 94506\, United States
ORGANIZER;CN="Wheelchair Foundation":MAILTO:jeffbehring@wineforwheels.org
END:VEVENT
END:VCALENDAR